BEGIN:VCALENDAR
VERSION:2.0
PRODID:-//Musikverein Oberweier - ECPv6.15.20//NONSGML v1.0//EN
CALSCALE:GREGORIAN
METHOD:PUBLISH
X-ORIGINAL-URL:https://mv-oberweier.de
X-WR-CALDESC:Veranstaltungen für Musikverein Oberweier
REFRESH-INTERVAL;VALUE=DURATION:PT1H
X-Robots-Tag:noindex
X-PUBLISHED-TTL:PT1H
BEGIN:VTIMEZONE
TZID:Europe/Paris
BEGIN:DAYLIGHT
TZOFFSETFROM:+0100
TZOFFSETTO:+0200
TZNAME:CEST
DTSTART:20240331T010000
END:DAYLIGHT
BEGIN:STANDARD
TZOFFSETFROM:+0200
TZOFFSETTO:+0100
TZNAME:CET
DTSTART:20241027T010000
END:STANDARD
BEGIN:DAYLIGHT
TZOFFSETFROM:+0100
TZOFFSETTO:+0200
TZNAME:CEST
DTSTART:20250330T010000
END:DAYLIGHT
BEGIN:STANDARD
TZOFFSETFROM:+0200
TZOFFSETTO:+0100
TZNAME:CET
DTSTART:20251026T010000
END:STANDARD
BEGIN:DAYLIGHT
TZOFFSETFROM:+0100
TZOFFSETTO:+0200
TZNAME:CEST
DTSTART:20260329T010000
END:DAYLIGHT
BEGIN:STANDARD
TZOFFSETFROM:+0200
TZOFFSETTO:+0100
TZNAME:CET
DTSTART:20261025T010000
END:STANDARD
END:VTIMEZONE
BEGIN:VEVENT
DTSTART;TZID=Europe/Paris:20251228T160000
DTEND;TZID=Europe/Paris:20251228T173000
DTSTAMP:20260422T090823
CREATED:20251117T182549Z
LAST-MODIFIED:20251220T195255Z
UID:1671-1766937600-1766943000@mv-oberweier.de
SUMMARY:Kirchenkonzert edelBlech
DESCRIPTION:Zum Ausklang unseres Jubiläumsjahres lädt unser Blechbläser-Ensemble „edelBlech“ zu einem besonderen Kirchenkonzert ein. Am 28.12. spielen die Musiker ab 16 Uhr in der Kirche St. Michael in Oberweier Werke von Bach\, Beethoven und Palestrina\, die unser Dirigent Adam Kalbfuß extra für das Ensemble bearbeitet hat. Freuen Sie sich zwischen den Jahren auf festliche Musik in einem besonderen Rahmen. Der Eintritt ist frei.
URL:https://mv-oberweier.de/event/kirchenkonzert-2025/
LOCATION:St. Michael Oberweier\, Römerstr. 2\, Friesenheim-Oberweier\, 77948\, Deutschland
ATTACH;FMTTYPE=image/png:https://mv-oberweier.de/wp-content/uploads/2025/11/Plakat_edelBlech_KIRCHENKONZERT_2025.png
END:VEVENT
END:VCALENDAR