BEGIN:VCALENDAR
VERSION:2.0
PRODID:-//Musikverein Oberweier - ECPv6.15.20//NONSGML v1.0//EN
CALSCALE:GREGORIAN
METHOD:PUBLISH
X-ORIGINAL-URL:https://mv-oberweier.de
X-WR-CALDESC:Veranstaltungen für Musikverein Oberweier
REFRESH-INTERVAL;VALUE=DURATION:PT1H
X-Robots-Tag:noindex
X-PUBLISHED-TTL:PT1H
BEGIN:VTIMEZONE
TZID:Europe/Paris
BEGIN:DAYLIGHT
TZOFFSETFROM:+0100
TZOFFSETTO:+0200
TZNAME:CEST
DTSTART:20250330T010000
END:DAYLIGHT
BEGIN:STANDARD
TZOFFSETFROM:+0200
TZOFFSETTO:+0100
TZNAME:CET
DTSTART:20251026T010000
END:STANDARD
BEGIN:DAYLIGHT
TZOFFSETFROM:+0100
TZOFFSETTO:+0200
TZNAME:CEST
DTSTART:20260329T010000
END:DAYLIGHT
BEGIN:STANDARD
TZOFFSETFROM:+0200
TZOFFSETTO:+0100
TZNAME:CET
DTSTART:20261025T010000
END:STANDARD
BEGIN:DAYLIGHT
TZOFFSETFROM:+0100
TZOFFSETTO:+0200
TZNAME:CEST
DTSTART:20270328T010000
END:DAYLIGHT
BEGIN:STANDARD
TZOFFSETFROM:+0200
TZOFFSETTO:+0100
TZNAME:CET
DTSTART:20271031T010000
END:STANDARD
END:VTIMEZONE
BEGIN:VEVENT
DTSTART;TZID=Europe/Paris:20260411T190000
DTEND;TZID=Europe/Paris:20260411T223000
DTSTAMP:20260422T015419
CREATED:20250607T190730Z
LAST-MODIFIED:20260322T183315Z
UID:1169-1775934000-1775946600@mv-oberweier.de
SUMMARY:Frühjahrskonzert in der Sternenberghalle
DESCRIPTION:Unser Frühjahrskonzert ist seit vielen Jahren der musikalische Höhepunkt im Vereinsjahr des Musikvereins Oberweier. In diesem Jahr freut sich das Orchester zusammen mit Dirigent Adam Kalbfuß\, den Besuchern ein besonderes Konzert präsentieren zu dürfen. \nIm ersten Programmteil erklingen fast ausschließlich Melodien von Antonin Dvorak: ob leicht beschwingt\, ob träumerisch oder temperamentvoll oder festlich – diese Musik begeistert einfach jeden. \nNach der Pause wird das Orchester verstärkt durch ehemalige Musikinnen und Musiker. Die über 50 Aktiven präsentieren bekannte Filmmusik z.B. aus dem König der Löwen und aus dem Dschungelbuch. \nAlle Musikfreunde sind herzlich zu diesem besonderen Konzertabend am 11. April eingeladen. Beginn ist um 19 Uhr im großen Saal in der Sternenberghalle. Der Eintritt ist frei\, Spenden sind willkommen.
URL:https://mv-oberweier.de/event/konzert_2026/
LOCATION:Sternenberghalle\, Oberweierer Hauptstr. 79a\, Friesenheim\, 77948\, Deutschland
ATTACH;FMTTYPE=image/png:https://mv-oberweier.de/wp-content/uploads/2025/06/Plakat_2026_v1_1024x768.png
END:VEVENT
END:VCALENDAR