BEGIN:VCALENDAR
VERSION:2.0
PRODID:-//Musikverein Oberweier - ECPv6.15.20//NONSGML v1.0//EN
CALSCALE:GREGORIAN
METHOD:PUBLISH
X-WR-CALNAME:Musikverein Oberweier
X-ORIGINAL-URL:https://mv-oberweier.de
X-WR-CALDESC:Veranstaltungen für Musikverein Oberweier
REFRESH-INTERVAL;VALUE=DURATION:PT1H
X-Robots-Tag:noindex
X-PUBLISHED-TTL:PT1H
BEGIN:VTIMEZONE
TZID:Europe/Paris
BEGIN:DAYLIGHT
TZOFFSETFROM:+0100
TZOFFSETTO:+0200
TZNAME:CEST
DTSTART:20250330T010000
END:DAYLIGHT
BEGIN:STANDARD
TZOFFSETFROM:+0200
TZOFFSETTO:+0100
TZNAME:CET
DTSTART:20251026T010000
END:STANDARD
BEGIN:DAYLIGHT
TZOFFSETFROM:+0100
TZOFFSETTO:+0200
TZNAME:CEST
DTSTART:20260329T010000
END:DAYLIGHT
BEGIN:STANDARD
TZOFFSETFROM:+0200
TZOFFSETTO:+0100
TZNAME:CET
DTSTART:20261025T010000
END:STANDARD
BEGIN:DAYLIGHT
TZOFFSETFROM:+0100
TZOFFSETTO:+0200
TZNAME:CEST
DTSTART:20270328T010000
END:DAYLIGHT
BEGIN:STANDARD
TZOFFSETFROM:+0200
TZOFFSETTO:+0100
TZNAME:CET
DTSTART:20271031T010000
END:STANDARD
END:VTIMEZONE
BEGIN:VEVENT
DTSTART;TZID=Europe/Paris:20260517T143000
DTEND;TZID=Europe/Paris:20260517T163000
DTSTAMP:20260422T034356
CREATED:20260322T111128Z
LAST-MODIFIED:20260322T111128Z
UID:1750-1779028200-1779035400@mv-oberweier.de
SUMMARY:Jugendkonzert mit Tobi Gnacke
DESCRIPTION:Die Friesenheimer Musikvereine laden alle Familien ein zum Jugendkonzert ins Georg-Schreiber-Haus. \nZuerst spielt das gemeinsame Jugendorchester 5er-Takt. \nDanach präsentiert der bekannte Entertainer Tobias Gnacke seine Kindershow „EINE WELTREISE MIT HITS FÜR KIDS“. \nDanach können interessierte Kinder noch verschiedene Blasmusikinstrumente ausprobieren.
URL:https://mv-oberweier.de/event/jugendkonzert_2026/
LOCATION:Georg-Schreiber-Haus\, Am Dorfgraben 2\, Friesenheim\, 77948\, Germany
END:VEVENT
END:VCALENDAR