BEGIN:VCALENDAR
VERSION:2.0
PRODID:-//Musikverein Oberweier - ECPv6.15.20//NONSGML v1.0//EN
CALSCALE:GREGORIAN
METHOD:PUBLISH
X-ORIGINAL-URL:https://mv-oberweier.de
X-WR-CALDESC:Veranstaltungen für Musikverein Oberweier
REFRESH-INTERVAL;VALUE=DURATION:PT1H
X-Robots-Tag:noindex
X-PUBLISHED-TTL:PT1H
BEGIN:VTIMEZONE
TZID:Europe/Paris
BEGIN:DAYLIGHT
TZOFFSETFROM:+0100
TZOFFSETTO:+0200
TZNAME:CEST
DTSTART:20230326T010000
END:DAYLIGHT
BEGIN:STANDARD
TZOFFSETFROM:+0200
TZOFFSETTO:+0100
TZNAME:CET
DTSTART:20231029T010000
END:STANDARD
BEGIN:DAYLIGHT
TZOFFSETFROM:+0100
TZOFFSETTO:+0200
TZNAME:CEST
DTSTART:20240331T010000
END:DAYLIGHT
BEGIN:STANDARD
TZOFFSETFROM:+0200
TZOFFSETTO:+0100
TZNAME:CET
DTSTART:20241027T010000
END:STANDARD
BEGIN:DAYLIGHT
TZOFFSETFROM:+0100
TZOFFSETTO:+0200
TZNAME:CEST
DTSTART:20250330T010000
END:DAYLIGHT
BEGIN:STANDARD
TZOFFSETFROM:+0200
TZOFFSETTO:+0100
TZNAME:CET
DTSTART:20251026T010000
END:STANDARD
END:VTIMEZONE
BEGIN:VEVENT
DTSTART;TZID=Europe/Paris:20241222T163000
DTEND;TZID=Europe/Paris:20241222T173000
DTSTAMP:20260423T030819
CREATED:20240606T205325Z
LAST-MODIFIED:20241205T211754Z
UID:500-1734885000-1734888600@mv-oberweier.de
SUMMARY:Kirchenkonzert in St. Michael am 4. Advent
DESCRIPTION:Am Nachmittag des 4. Advent lädt der Musikverein Oberweier zum Konzert in die Kirche St. Michael in Oberweier ein. Das Orchester wird unter der Leitung von Dirigent Adam Kalbfuß festliche als auch getragene Musik präsentieren. Neben Georg Friedrich Händels „Halleluja“ wird auch die bekannte Wassermusik sowie die berühmte Arie „Nessun Dorma“ erklingen. Alle Musikfreunde sind herzlich eingeladen.
URL:https://mv-oberweier.de/event/adventsmatinee_2024/
LOCATION:St. Michael Oberweier\, Römerstr. 2\, Friesenheim-Oberweier\, 77948\, Deutschland
ATTACH;FMTTYPE=image/png:https://mv-oberweier.de/wp-content/uploads/2024/06/Kirchenkonzert_2024.png
END:VEVENT
END:VCALENDAR