BEGIN:VCALENDAR
VERSION:2.0
PRODID:-//Musikverein Oberweier - ECPv6.15.20//NONSGML v1.0//EN
CALSCALE:GREGORIAN
METHOD:PUBLISH
X-WR-CALNAME:Musikverein Oberweier
X-ORIGINAL-URL:https://mv-oberweier.de
X-WR-CALDESC:Veranstaltungen für Musikverein Oberweier
REFRESH-INTERVAL;VALUE=DURATION:PT1H
X-Robots-Tag:noindex
X-PUBLISHED-TTL:PT1H
BEGIN:VTIMEZONE
TZID:Europe/Paris
BEGIN:DAYLIGHT
TZOFFSETFROM:+0100
TZOFFSETTO:+0200
TZNAME:CEST
DTSTART:20240331T010000
END:DAYLIGHT
BEGIN:STANDARD
TZOFFSETFROM:+0200
TZOFFSETTO:+0100
TZNAME:CET
DTSTART:20241027T010000
END:STANDARD
BEGIN:DAYLIGHT
TZOFFSETFROM:+0100
TZOFFSETTO:+0200
TZNAME:CEST
DTSTART:20250330T010000
END:DAYLIGHT
BEGIN:STANDARD
TZOFFSETFROM:+0200
TZOFFSETTO:+0100
TZNAME:CET
DTSTART:20251026T010000
END:STANDARD
BEGIN:DAYLIGHT
TZOFFSETFROM:+0100
TZOFFSETTO:+0200
TZNAME:CEST
DTSTART:20260329T010000
END:DAYLIGHT
BEGIN:STANDARD
TZOFFSETFROM:+0200
TZOFFSETTO:+0100
TZNAME:CET
DTSTART:20261025T010000
END:STANDARD
END:VTIMEZONE
BEGIN:VEVENT
DTSTART;TZID=Europe/Paris:20250704T170000
DTEND;TZID=Europe/Paris:20250706T210000
DTSTAMP:20260422T151425
CREATED:20240911T195452Z
LAST-MODIFIED:20250629T121004Z
UID:579-1751648400-1751835600@mv-oberweier.de
SUMMARY:oberWIR 2025 - Jubiläumsfest 100 Jahre Musikverein & 125 Jahre Feuerwehr
DESCRIPTION:Nur noch wenige Wochen und dann startet unser Fest „oberWIR“ im Zelt bei der Sternenberghalle in 77948 Friesenheim. Die Vorbereitungen laufen auf Hochtouren und wir freuen uns auf ein unvergessliches Fest – mit EUCH! \n  \nUnser FESTPROGRAMM \nAm Freitag\, den 4. Juli eröffnen wir unser Fest um 18:30 Uhr mit einem kleinen Bankett in lockerer Form und danach steigt unser Dorfowe mit der Partypower der FILTERLÄNDER – Brass & Party. Der Eintritt ist frei. \nAm Samstag\, den 5. Juli steigt dann ab 13:30 Uhr das BOBBY CAR-RENNEN (die Junioren starten schon ab 11:15 Uhr): es geht nicht nur um die schnellste Zeit\, sondern auch um Spaß und Gaudi. Anmeldungen sind per Mail an bobbycar@mv-oberweier.de möglich. Gibt es vielleicht in noch ein paar tollkühne Rennfahrer/-innen\, die schon immer mal … \nAm Samstagabend sind dann ab 19:30 Uhr PAPI’S PUMPELS mit ihrer unvergleichlichen SCHLAGERPARTY zu Gast. Wir freuen uns auf ein ausgelassenes Fest für Junge und Junggebliebene. Tickets gibt es für nur 14€ im Vorverkauf HIER \nAm Sonntag\, den 6. Juli startet unser Fest ab 11:30 Uhr mit dem MITTAGSKONZERT des Musikvereins Meißenheim. Um 14 Uhr beginnt der große FESTUMZUG durch Oberweier zum Festgelände. Im Zelt spielt dann der Musikverein Dinglingen zur Unterhaltung der Besucher auf. Den FESTAUSKLANG feiern wir dann ab 17:30 Uhr mit TWO55\, der Band mit der genialen Musikmischung aus Pop\, Rock und Funk. \n  \nEin tolles Programm für ein tolles Fest! Weitere Infos gibt es im Web oder unter dem Stichwort „oberWIR 2025“ auf Instagram oder Facebook. Wir freuen uns auf euren Besuch in oberWIR!
URL:https://mv-oberweier.de/event/oberwir2025-jubilaeumsfest/
LOCATION:Sternenberghalle\, Oberweierer Hauptstr. 79a\, Friesenheim\, 77948\, Deutschland
ATTACH;FMTTYPE=image/jpeg:https://mv-oberweier.de/wp-content/uploads/2024/09/Bierdeckel-Vorne-Rund_v1.jpg
END:VEVENT
BEGIN:VEVENT
DTSTART;TZID=Europe/Paris:20250712T180000
DTEND;TZID=Europe/Paris:20250712T193000
DTSTAMP:20260422T151425
CREATED:20250607T190850Z
LAST-MODIFIED:20250607T190850Z
UID:1172-1752343200-1752348600@mv-oberweier.de
SUMMARY:Auftritt beim Sommerhock in Schuttern
DESCRIPTION:
URL:https://mv-oberweier.de/event/auftritt_schuttern_2025/
END:VEVENT
END:VCALENDAR