BEGIN:VCALENDAR
VERSION:2.0
PRODID:-//Musikverein Oberweier - ECPv6.15.20//NONSGML v1.0//EN
CALSCALE:GREGORIAN
METHOD:PUBLISH
X-ORIGINAL-URL:https://mv-oberweier.de
X-WR-CALDESC:Veranstaltungen für Musikverein Oberweier
REFRESH-INTERVAL;VALUE=DURATION:PT1H
X-Robots-Tag:noindex
X-PUBLISHED-TTL:PT1H
BEGIN:VTIMEZONE
TZID:Europe/Paris
BEGIN:DAYLIGHT
TZOFFSETFROM:+0100
TZOFFSETTO:+0200
TZNAME:CEST
DTSTART:20240331T010000
END:DAYLIGHT
BEGIN:STANDARD
TZOFFSETFROM:+0200
TZOFFSETTO:+0100
TZNAME:CET
DTSTART:20241027T010000
END:STANDARD
BEGIN:DAYLIGHT
TZOFFSETFROM:+0100
TZOFFSETTO:+0200
TZNAME:CEST
DTSTART:20250330T010000
END:DAYLIGHT
BEGIN:STANDARD
TZOFFSETFROM:+0200
TZOFFSETTO:+0100
TZNAME:CET
DTSTART:20251026T010000
END:STANDARD
BEGIN:DAYLIGHT
TZOFFSETFROM:+0100
TZOFFSETTO:+0200
TZNAME:CEST
DTSTART:20260329T010000
END:DAYLIGHT
BEGIN:STANDARD
TZOFFSETFROM:+0200
TZOFFSETTO:+0100
TZNAME:CET
DTSTART:20261025T010000
END:STANDARD
END:VTIMEZONE
BEGIN:VEVENT
DTSTART;TZID=Europe/Paris:20250922T180000
DTEND;TZID=Europe/Paris:20250922T190000
DTSTAMP:20260422T122911
CREATED:20250810T091758Z
LAST-MODIFIED:20250810T091758Z
UID:1493-1758564000-1758567600@mv-oberweier.de
SUMMARY:Instrumentenvorstellung für Kids
DESCRIPTION:Am Montag\, den 22. September findet ab 18 Uhr eine Schnupperstunde mit Instrumentenvorstellung im Probenraum des Musikvereins bei der Grundschule statt. \nInteressierte Mädchen und Jungs bekommen die verschiedenen Instrumente erklärt und können sie ausprobieren. \nDie Veranstaltung richtet sich an alle Kinder und Eltern\, die sich über eine Ausbildung an einem Blasmusikinstrument oder am Schlagzeug informieren wollen. Eine Anmeldung ist erforderlich. Diese kann am einfachsten per Telefon unter der Nummer 07821/995062 oder per E-Mail and info@mv-oberweier.de) erfolgen.
URL:https://mv-oberweier.de/event/instrumentenvorstellung-fuer-kids-2/
LOCATION:Probelokal des MVO\, Talstr. 1\, Friesenheim-Oberweier\, 77948\, Deutschland
ATTACH;FMTTYPE=image/jpeg:https://mv-oberweier.de/wp-content/uploads/2021/01/28_Instrumentenparcours_Rontal.jpg
END:VEVENT
BEGIN:VEVENT
DTSTART;TZID=Europe/Paris:20250928T093000
DTEND;TZID=Europe/Paris:20250928T120000
DTSTAMP:20260422T122911
CREATED:20250607T185957Z
LAST-MODIFIED:20250607T190011Z
UID:1153-1759051800-1759060800@mv-oberweier.de
SUMMARY:Patrozinium & Stehempfang in Oberweier
DESCRIPTION:
URL:https://mv-oberweier.de/event/patrozinium_2025/
END:VEVENT
END:VCALENDAR