BEGIN:VCALENDAR
VERSION:2.0
PRODID:-//Musikverein Oberweier - ECPv6.15.20//NONSGML v1.0//EN
CALSCALE:GREGORIAN
METHOD:PUBLISH
X-WR-CALNAME:Musikverein Oberweier
X-ORIGINAL-URL:https://mv-oberweier.de
X-WR-CALDESC:Veranstaltungen für Musikverein Oberweier
REFRESH-INTERVAL;VALUE=DURATION:PT1H
X-Robots-Tag:noindex
X-PUBLISHED-TTL:PT1H
BEGIN:VTIMEZONE
TZID:Europe/Paris
BEGIN:DAYLIGHT
TZOFFSETFROM:+0100
TZOFFSETTO:+0200
TZNAME:CEST
DTSTART:20240331T010000
END:DAYLIGHT
BEGIN:STANDARD
TZOFFSETFROM:+0200
TZOFFSETTO:+0100
TZNAME:CET
DTSTART:20241027T010000
END:STANDARD
BEGIN:DAYLIGHT
TZOFFSETFROM:+0100
TZOFFSETTO:+0200
TZNAME:CEST
DTSTART:20250330T010000
END:DAYLIGHT
BEGIN:STANDARD
TZOFFSETFROM:+0200
TZOFFSETTO:+0100
TZNAME:CET
DTSTART:20251026T010000
END:STANDARD
BEGIN:DAYLIGHT
TZOFFSETFROM:+0100
TZOFFSETTO:+0200
TZNAME:CEST
DTSTART:20260329T010000
END:DAYLIGHT
BEGIN:STANDARD
TZOFFSETFROM:+0200
TZOFFSETTO:+0100
TZNAME:CET
DTSTART:20261025T010000
END:STANDARD
END:VTIMEZONE
BEGIN:VEVENT
DTSTART;TZID=Europe/Paris:20251206T170000
DTEND;TZID=Europe/Paris:20251206T190000
DTSTAMP:20260422T071005
CREATED:20250316T184429Z
LAST-MODIFIED:20250316T184526Z
UID:778-1765040400-1765047600@mv-oberweier.de
SUMMARY:Adventszauber in Oberweier 2025
DESCRIPTION:Vororchester und Musikverein umrahmen den Adventszauber in Oberweier mit adventlichen Klängen.
URL:https://mv-oberweier.de/event/adventszauber-2025/
LOCATION:Waldmattenhalle\, Vollmerweg 1\, Friesenheim-Oberweier\, 77948\, Deutschland
END:VEVENT
BEGIN:VEVENT
DTSTART;TZID=Europe/Paris:20251207T140000
DTEND;TZID=Europe/Paris:20251207T180000
DTSTAMP:20260422T071005
CREATED:20251013T192714Z
LAST-MODIFIED:20251013T192714Z
UID:1648-1765116000-1765130400@mv-oberweier.de
SUMMARY:Jubiläumsausstellung 100 Jahre Musikverein Oberweier e.V.
DESCRIPTION:
URL:https://mv-oberweier.de/event/jubilaeumsausstellung-100-jahre-musikverein-oberweier-e-v/
LOCATION:Museum der Gde. Friesenheim\, Friesenheim\, 77948\, Germany
ATTACH;FMTTYPE=image/jpeg:https://mv-oberweier.de/wp-content/uploads/2025/09/Plakat-Jubilaeumsaustellung-100-Jahre-Musikverein-Oberweier.jpg
END:VEVENT
BEGIN:VEVENT
DTSTART;TZID=Europe/Paris:20251226T140000
DTEND;TZID=Europe/Paris:20251226T180000
DTSTAMP:20260422T071005
CREATED:20251013T192805Z
LAST-MODIFIED:20251013T192805Z
UID:1651-1766757600-1766772000@mv-oberweier.de
SUMMARY:Jubiläumsausstellung 100 Jahre Musikverein Oberweier e.V.
DESCRIPTION:
URL:https://mv-oberweier.de/event/jubilaeumsausstellung-100-jahre-musikverein-oberweier-e-v-2/
LOCATION:Museum der Gde. Friesenheim\, Friesenheim\, 77948\, Germany
ATTACH;FMTTYPE=image/jpeg:https://mv-oberweier.de/wp-content/uploads/2025/09/Plakat-Jubilaeumsaustellung-100-Jahre-Musikverein-Oberweier.jpg
END:VEVENT
BEGIN:VEVENT
DTSTART;TZID=Europe/Paris:20251228T160000
DTEND;TZID=Europe/Paris:20251228T173000
DTSTAMP:20260422T071005
CREATED:20251117T182549Z
LAST-MODIFIED:20251220T195255Z
UID:1671-1766937600-1766943000@mv-oberweier.de
SUMMARY:Kirchenkonzert edelBlech
DESCRIPTION:Zum Ausklang unseres Jubiläumsjahres lädt unser Blechbläser-Ensemble „edelBlech“ zu einem besonderen Kirchenkonzert ein. Am 28.12. spielen die Musiker ab 16 Uhr in der Kirche St. Michael in Oberweier Werke von Bach\, Beethoven und Palestrina\, die unser Dirigent Adam Kalbfuß extra für das Ensemble bearbeitet hat. Freuen Sie sich zwischen den Jahren auf festliche Musik in einem besonderen Rahmen. Der Eintritt ist frei.
URL:https://mv-oberweier.de/event/kirchenkonzert-2025/
LOCATION:St. Michael Oberweier\, Römerstr. 2\, Friesenheim-Oberweier\, 77948\, Deutschland
ATTACH;FMTTYPE=image/png:https://mv-oberweier.de/wp-content/uploads/2025/11/Plakat_edelBlech_KIRCHENKONZERT_2025.png
END:VEVENT
END:VCALENDAR